BEGIN:VCALENDAR
VERSION:2.0
PRODID:-//AcroYoga Brighton - ECPv6.14.2//NONSGML v1.0//EN
CALSCALE:GREGORIAN
METHOD:PUBLISH
X-WR-CALNAME:AcroYoga Brighton
X-ORIGINAL-URL:https://acroyogabrighton.com
X-WR-CALDESC:Events for AcroYoga Brighton
REFRESH-INTERVAL;VALUE=DURATION:PT1H
X-Robots-Tag:noindex
X-PUBLISHED-TTL:PT1H
BEGIN:VTIMEZONE
TZID:UTC
BEGIN:STANDARD
TZOFFSETFROM:+0000
TZOFFSETTO:+0000
TZNAME:UTC
DTSTART:20150101T000000
END:STANDARD
END:VTIMEZONE
BEGIN:VEVENT
DTSTART;TZID=UTC:20150120T093000
DTEND;TZID=UTC:20150120T110000
DTSTAMP:20260425T112248
CREATED:20150106T121508Z
LAST-MODIFIED:20150106T121508Z
UID:787-1421746200-1421751600@acroyogabrighton.com
SUMMARY:Tuesday Morning Open Class
DESCRIPTION:Open AcroYoga class for all levels. No partner necessary and drop-ins welcome.
URL:https://acroyogabrighton.com/event/tuesday-morning-open-class/
LOCATION:Evolution Arts and Natural Health\, 2 Sillwood Terrace\, Brighton\, East Sussex\, BN1 2LR\, United Kingdom
CATEGORIES:Regular Classes
ATTACH;FMTTYPE=image/jpeg:https://acroyogabrighton.com/wp-content/uploads/2014/05/980571_10151675221630259_2145256718_o1.jpg
ORGANIZER;CN="Neilon":MAILTO:neilon@acroyoga.org
END:VEVENT
END:VCALENDAR