BEGIN:VCALENDAR
VERSION:2.0
PRODID:-//AcroYoga Brighton - ECPv6.14.2//NONSGML v1.0//EN
CALSCALE:GREGORIAN
METHOD:PUBLISH
X-ORIGINAL-URL:https://acroyogabrighton.com
X-WR-CALDESC:Events for AcroYoga Brighton
REFRESH-INTERVAL;VALUE=DURATION:PT1H
X-Robots-Tag:noindex
X-PUBLISHED-TTL:PT1H
BEGIN:VTIMEZONE
TZID:UTC
BEGIN:STANDARD
TZOFFSETFROM:+0000
TZOFFSETTO:+0000
TZNAME:UTC
DTSTART:20140101T000000
END:STANDARD
END:VTIMEZONE
BEGIN:VEVENT
DTSTART;VALUE=DATE:20140801
DTEND;VALUE=DATE:20140805
DTSTAMP:20260425T174542
CREATED:20140529T215608Z
LAST-MODIFIED:20140529T225611Z
UID:296-1406851200-1407196799@acroyogabrighton.com
SUMMARY:AcroYoga and Thai Massage - Sussex Summer Retreat\, UK
DESCRIPTION:Pure play retreat – all levels worked with. \nFacilitators Neilon and Chetana bring you… \nAcroYoga therapeutics\, Thai Yoga Massage\, contact DJ dance\, fireside kirtan & bhajans\, lush veggie friendly food\, woodland wild food forage\, sauna\, lake skinny dipping. \nAnd breathe… \nTrampolining\, buttercup camping\, 1 on 1 therapies*\, group healing\, sunrise parnter yoga\, dawn meditations. \n\n£250 full price\n£198 early bird\n£445 pairs/couples\nFree for karma yogis who love helping out\n\n*discounted\, but extra cost \nWe begin our day with restorative yoga into partner yoga. After breakfast we stretch into DJ led contact dance on the lawns. From there we transition into humandalas before we move into partner work encouraging core connection. We then use our newly developed body integrity to dive deep into acrobatics and acro balance transitions and flows. \nAfter lunch we wind down with a redwood hike and lake dip preparing to totally melt our selves into the candle lit thai yoga massage temple of love. \n\nClosing with sundown kirtan before dinner and fireside sharing. Bring instruments and gifts.\nAccommodation tents in buttercup field or limited space in inside studio dormitory\nEarly bird discounts come with us one partner discount karma yogi helpers required.\nBring yoga mats and snacks (extra protein if you need it)\nTaxis £8:50 from Haywards Heath. No parking available.\nPlace places limited to 30\n\n\n\n \n\n\nPrice Options\n\n\nEarly Bird – Before July 15th £198.00 GBPPairs/couple £445.00 GBPFull Price – After July 15th £250.00 GBP
URL:https://acroyogabrighton.com/event/acroyoga-and-thai-massage-sussex-summer-retreat-uk/
LOCATION:Broad Oak House\, Brantridge Lane\, Staplefield\, West Sussex\, RH17 6EW\, United Kingdom
CATEGORIES:Retreat
ATTACH;FMTTYPE=image/jpeg:https://acroyogabrighton.com/wp-content/uploads/2014/05/10379230_10152439810013890_2107008666_n.jpg
ORGANIZER;CN="Chetana":MAILTO:awakeningtruthhealing@gmail.com
END:VEVENT
END:VCALENDAR