BEGIN:VCALENDAR
VERSION:2.0
PRODID:-//AcroYoga Brighton - ECPv6.14.2//NONSGML v1.0//EN
CALSCALE:GREGORIAN
METHOD:PUBLISH
X-ORIGINAL-URL:https://acroyogabrighton.com
X-WR-CALDESC:Events for AcroYoga Brighton
REFRESH-INTERVAL;VALUE=DURATION:PT1H
X-Robots-Tag:noindex
X-PUBLISHED-TTL:PT1H
BEGIN:VTIMEZONE
TZID:UTC
BEGIN:STANDARD
TZOFFSETFROM:+0000
TZOFFSETTO:+0000
TZNAME:UTC
DTSTART:20140101T000000
END:STANDARD
END:VTIMEZONE
BEGIN:VEVENT
DTSTART;VALUE=DATE:20140718
DTEND;VALUE=DATE:20140721
DTSTAMP:20260425T174623
CREATED:20140512T101940Z
LAST-MODIFIED:20140605T065208Z
UID:265-1405641600-1405900799@acroyogabrighton.com
SUMMARY:Give Festival - AcroYoga workshop
DESCRIPTION:Explore the acrobat and healer within in a safe friendly way at the beautiful and intimate Give festival in Leicestershire.
URL:https://acroyogabrighton.com/event/give-festival-acroyoga-workshop/
LOCATION:Stanford Hall\, Lutterworth\, Leicestershire\, LE17 6DH\, United Kingdom
CATEGORIES:Festival
ATTACH;FMTTYPE=image/jpeg:https://acroyogabrighton.com/wp-content/uploads/2014/05/give.jpg
ORGANIZER;CN="Neilon":MAILTO:neilon@acroyoga.org
END:VEVENT
END:VCALENDAR